BEGIN:VCALENDAR
VERSION:2.0
PRODID:-//c-abc - ECPv6.15.20//NONSGML v1.0//EN
CALSCALE:GREGORIAN
METHOD:PUBLISH
X-WR-CALNAME:c-abc
X-ORIGINAL-URL:https://www.c-abc.org
X-WR-CALDESC:Events for c-abc
REFRESH-INTERVAL;VALUE=DURATION:PT1H
X-Robots-Tag:noindex
X-PUBLISHED-TTL:PT1H
BEGIN:VTIMEZONE
TZID:America/Toronto
BEGIN:DAYLIGHT
TZOFFSETFROM:-0500
TZOFFSETTO:-0400
TZNAME:EDT
DTSTART:20230312T070000
END:DAYLIGHT
BEGIN:STANDARD
TZOFFSETFROM:-0400
TZOFFSETTO:-0500
TZNAME:EST
DTSTART:20231105T060000
END:STANDARD
BEGIN:DAYLIGHT
TZOFFSETFROM:-0500
TZOFFSETTO:-0400
TZNAME:EDT
DTSTART:20240310T070000
END:DAYLIGHT
BEGIN:STANDARD
TZOFFSETFROM:-0400
TZOFFSETTO:-0500
TZNAME:EST
DTSTART:20241103T060000
END:STANDARD
BEGIN:DAYLIGHT
TZOFFSETFROM:-0500
TZOFFSETTO:-0400
TZNAME:EDT
DTSTART:20250309T070000
END:DAYLIGHT
BEGIN:STANDARD
TZOFFSETFROM:-0400
TZOFFSETTO:-0500
TZNAME:EST
DTSTART:20251102T060000
END:STANDARD
END:VTIMEZONE
BEGIN:VEVENT
DTSTART;VALUE=DATE:20240505
DTEND;VALUE=DATE:20240508
DTSTAMP:20260420T042827
CREATED:20240315T180120Z
LAST-MODIFIED:20241216T124745Z
UID:10000117-1714867200-1715126399@www.c-abc.org
SUMMARY:Canada-KSA Education Partnership Forum
DESCRIPTION:Objective: \nThe Embassy of Canada to the Kingdom of Saudi Arabia in partnership with the Ministry of Education in Saudi Arabia will host the Canada-KSA Education Partnership Forum between May 5 to 7\, 2024. \nThe objective of this forum is to bring together leading education institutions from Canada and the Kingdom of Saudi Arabia to explore possibilities for institutional partnerships related to (but not limited to) joint-study programs\, collaborative research\, curriculum development\, student and faculty exchanges or technical and vocational training. \nFew key sectors of interest for partnerships will include: \n\nInformation technology;\nTourism & hospitality;\nHealthcare;\nOil & Gas;\nAgriculture.\n\nThe first two editions of this forum successfully took place in Dubai and brought together over 130 delegates representing education institutions from Canada\, the UAE\, and the MENA region. Given the recent normalization of diplomatic ties between Canada and Saudi Arabia\, the upcoming forum presents an opportunity to strengthen business cooperation and open doors to greater dialogue between Canada and KSA. \nWho should participate? \n\nSenior leadership focused on global partnerships of universities & colleges;\nGovernment stakeholders in education and the key sectors identified;\nTechnical/applied education institutions;\nBusinesses in Saudi Arabia interested in capacity building training.\n\nContact us: \nFor further information or registration\, please contact Ms. Sonia Hukil\, First Secretary (Commercial) for Education at the Embassy of Canada to the Kingdom of Saudi Arabia at Sonia.hukil@international.gc.ca and Abdullah Chowdhury\, Trade Commissioner Assistant at Abdullah.Chowdhury@international.gc.ca. \n  \n\n\n\nProgram at a Glance: \nMay 5\, Sunday: Welcoming reception at the Official Residence of the Ambassador of Canada\, H.E. Jean-Philippe Linteau \nMay 6\, Monday: Presentations and panel discussions\, followed by a full day of business-to-business meetings between Canadian and Saudi stakeholders \nMay 7\, Tuesday: All day optional program of site visits to education institutions and corporations in Riyadh\n\n\n\n  \n\n\n\nADDITIONAL PROGRAM: \nEducation Forum\, Bahrain\, May 8\, 2024 \nFollowing the education partnership forum in Riyadh\, the Embassy of Canada will take the Canadian delegation (those interested) to Bahrain for a day to engage with the Bahraini educational institutions. Education is an important sector in Bahrain. \nIn line with the country’s Vision 2030\, given the skills shortage\, the focus is on enhancing technical and vocational education and training in specialized fields related to STEM\, fintech\, cybersecurity\, petroleum engineering etc. \nForum Format: Presentation from the Ministry of Higher Education in Bahrain on market and sector\, followed by meetings between Canadian and Bahraini education stakeholders.
URL:https://www.c-abc.org/event/canada-ksa-education-partnership-forum/
LOCATION:Riyadh\, Saudi Arabia\, Riyadh\, Saudi Arabia
CATEGORIES:Past Events
END:VEVENT
END:VCALENDAR